BEGIN:VCALENDAR
VERSION:2.0
PRODID:-//City of Fifty Lakes, MN - ECPv6.15.12.2//NONSGML v1.0//EN
CALSCALE:GREGORIAN
METHOD:PUBLISH
X-ORIGINAL-URL:https://fiftylakesmn.com
X-WR-CALDESC:Events for City of Fifty Lakes, MN
REFRESH-INTERVAL;VALUE=DURATION:PT1H
X-Robots-Tag:noindex
X-PUBLISHED-TTL:PT1H
BEGIN:VTIMEZONE
TZID:UTC
BEGIN:STANDARD
TZOFFSETFROM:+0000
TZOFFSETTO:+0000
TZNAME:UTC
DTSTART:20230101T000000
END:STANDARD
END:VTIMEZONE
BEGIN:VEVENT
DTSTART;TZID=UTC:20241105T070000
DTEND;TZID=UTC:20241105T200000
DTSTAMP:20260421T101715
CREATED:20240126T194158Z
LAST-MODIFIED:20240126T194158Z
UID:1033-1730790000-1730836800@fiftylakesmn.com
SUMMARY:General Elections
DESCRIPTION:
URL:https://fiftylakesmn.com/event/general-elections/
END:VEVENT
BEGIN:VEVENT
DTSTART;TZID=UTC:20241112T180000
DTEND;TZID=UTC:20241112T180000
DTSTAMP:20260421T101715
CREATED:20240126T194247Z
LAST-MODIFIED:20240126T194247Z
UID:1035-1731434400-1731434400@fiftylakesmn.com
SUMMARY:Council Meeting
DESCRIPTION:
URL:https://fiftylakesmn.com/event/council-meeting-11/
END:VEVENT
BEGIN:VEVENT
DTSTART;TZID=UTC:20241126T180000
DTEND;TZID=UTC:20241126T180000
DTSTAMP:20260421T101715
CREATED:20240126T194323Z
LAST-MODIFIED:20240126T194323Z
UID:1037-1732644000-1732644000@fiftylakesmn.com
SUMMARY:Planning Commission Meeting
DESCRIPTION:
URL:https://fiftylakesmn.com/event/planning-commission-meeting-11/
END:VEVENT
BEGIN:VEVENT
DTSTART;VALUE=DATE:20241128
DTEND;VALUE=DATE:20241129
DTSTAMP:20260421T101715
CREATED:20240126T194427Z
LAST-MODIFIED:20240126T194427Z
UID:1039-1732752000-1732838399@fiftylakesmn.com
SUMMARY:Thanksgiving - City Offices Closed
DESCRIPTION:
URL:https://fiftylakesmn.com/event/thanksgiving-city-offices-closed/
END:VEVENT
END:VCALENDAR