BEGIN:VCALENDAR
VERSION:2.0
PRODID:-//City of Fifty Lakes, MN - ECPv6.15.12.2//NONSGML v1.0//EN
CALSCALE:GREGORIAN
METHOD:PUBLISH
X-ORIGINAL-URL:https://fiftylakesmn.com
X-WR-CALDESC:Events for City of Fifty Lakes, MN
REFRESH-INTERVAL;VALUE=DURATION:PT1H
X-Robots-Tag:noindex
X-PUBLISHED-TTL:PT1H
BEGIN:VTIMEZONE
TZID:UTC
BEGIN:STANDARD
TZOFFSETFROM:+0000
TZOFFSETTO:+0000
TZNAME:UTC
DTSTART:20230101T000000
END:STANDARD
END:VTIMEZONE
BEGIN:VEVENT
DTSTART;TZID=UTC:20241207T100000
DTEND;TZID=UTC:20241207T160000
DTSTAMP:20260421T120051
CREATED:20240126T194632Z
LAST-MODIFIED:20240126T194632Z
UID:1045-1733565600-1733587200@fiftylakesmn.com
SUMMARY:Holiday Craft Fair
DESCRIPTION:
URL:https://fiftylakesmn.com/event/holiday-craft-fair/
END:VEVENT
BEGIN:VEVENT
DTSTART;TZID=UTC:20241210T180000
DTEND;TZID=UTC:20241210T180000
DTSTAMP:20260421T120051
CREATED:20240126T194514Z
LAST-MODIFIED:20240126T194514Z
UID:1041-1733853600-1733853600@fiftylakesmn.com
SUMMARY:Council Meeting
DESCRIPTION:
URL:https://fiftylakesmn.com/event/council-meeting-12/
END:VEVENT
BEGIN:VEVENT
DTSTART;TZID=UTC:20241224T180000
DTEND;TZID=UTC:20241224T180000
DTSTAMP:20260421T120051
CREATED:20240126T194552Z
LAST-MODIFIED:20240126T194552Z
UID:1043-1735063200-1735063200@fiftylakesmn.com
SUMMARY:Planning Commission Meeting
DESCRIPTION:
URL:https://fiftylakesmn.com/event/planning-commission-meeting-12/
END:VEVENT
BEGIN:VEVENT
DTSTART;VALUE=DATE:20241225
DTEND;VALUE=DATE:20241226
DTSTAMP:20260421T120051
CREATED:20240126T194719Z
LAST-MODIFIED:20240126T194719Z
UID:1047-1735084800-1735171199@fiftylakesmn.com
SUMMARY:Christmas Day - City Offices Closed
DESCRIPTION:
URL:https://fiftylakesmn.com/event/christmas-day-city-offices-closed/
END:VEVENT
END:VCALENDAR